BEGIN:VCALENDAR
VERSION:2.0
PRODID:spatie/icalendar-generator
DESCRIPTION:Évènements de 
X-WR-CALDESC:Évènements de 
REFRESH-INTERVAL;VALUE=DURATION:PT1440M
X-PUBLISHED-TTL:PT1440M
BEGIN:VTIMEZONE
TZID:Europe/Paris
BEGIN:DAYLIGHT
DTSTART:20180325T020000Z
TZOFFSETFROM:+0100
TZOFFSETTO:+0200
END:DAYLIGHT
BEGIN:STANDARD
DTSTART:20181028T030000Z
TZOFFSETFROM:+0200
TZOFFSETTO:+0100
END:STANDARD
BEGIN:DAYLIGHT
DTSTART:20190331T020000Z
TZOFFSETFROM:+0100
TZOFFSETTO:+0200
END:DAYLIGHT
END:VTIMEZONE
BEGIN:VTIMEZONE
TZID:UTC
BEGIN:STANDARD
DTSTART:20250723T192234Z
TZOFFSETFROM:+0000
TZOFFSETTO:+0000
END:STANDARD
END:VTIMEZONE
BEGIN:VEVENT
UID:27-11
DTSTAMP:20260419T192234Z
SUMMARY:Présentation des résultats du Baromètre Epiceum &amp;amp\; Harris In
 teractive à Paris - édition 2018
LOCATION:
ORGANIZER;CN=epiceum-comlocale-WP:MAILTO:ggangolphe@epiceum.com
DTSTART;TZID=Europe/Paris:20181003T090000
DTEND;TZID=Europe/Paris:20181003T110000
X-ALT-DESC;FMTTYPE=TEXT/HTML:
CATEGORIES:General
URL;VALUE=URI:https://barometrecomlocale.fr/my-calendar/?cid=mc-948a6a8e8cd
 15db324902317a630b853&#038;mc_id=27&#038;vcal=27
END:VEVENT
END:VCALENDAR